BEGIN:VCALENDAR
VERSION:2.0
PRODID:icalendar-ruby
CALSCALE:GREGORIAN
METHOD:PUBLISH
BEGIN:VEVENT
DTSTAMP:20260419T123437Z
UID:88-4621021@thedowntown.church
DTSTART:20261031T233000Z
DTEND:20261101T003000Z
CLASS:PUBLIC
CREATED:20260419T063540
DESCRIPTION:AA meets Thursday and Saturday evenings from 6:00 to 7:30. For 
 more information\, contact Bender Cain: bendercain1@gmail.com
LAST-MODIFIED:20260419T063540
LOCATION:The Downtown Church
SUMMARY:Alcoholics Anonymous
URL;VALUE=URI:https://www.thedowntown.church/events/alcoholics-anonymous--8
 7/2026-10-31
ATTACH;FILENAME=aa.png;FMTTYPE=image/png:https://dq5pwpg1q8ru0.cloudfront.n
 et/2024/06/26/14/35/13/64e2df93-9d6c-40cc-b828-7ecf862584b5/aa.png
END:VEVENT
END:VCALENDAR
