BEGIN:VCALENDAR
VERSION:2.0
PRODID:icalendar-ruby
CALSCALE:GREGORIAN
METHOD:PUBLISH
BEGIN:VEVENT
DTSTAMP:20260421T140340Z
UID:7-4658413@thedowntown.church
DTSTART:20260920T153000Z
DTEND:20260920T163000Z
CLASS:PUBLIC
CREATED:20260421T084245
DESCRIPTION:
LAST-MODIFIED:20260421T084245
LOCATION:413 E Walnut St.
SUMMARY:Sunday Worship
URL;VALUE=URI:https://www.thedowntown.church/events/sunday-worship/2026-09-
 20
ATTACH;FILENAME=IMG_3789 copy.jpg;FMTTYPE=image/jpeg:https://dq5pwpg1q8ru0.
 cloudfront.net/2021/04/28/14/57/49/b1d527f1-8b81-4593-9161-b689ec6e01ed/IM
 G_3789%20copy.jpg
END:VEVENT
END:VCALENDAR
